BEGIN:VCALENDAR
VERSION:2.0
PRODID:-//wp-events-plugin.com//6.6.1//EN
BEGIN:VEVENT
UID:46@commitmuenchen.com
DTSTART:20260419T140000Z
DTEND:20260419T180000Z
DTSTAMP:20260304T191202Z
URL:https://commitmuenchen.com/veranstaltungen/rassismus-erkennen-benennen
 -bekaempfen/
SUMMARY:Rassismus erkennen\, benennen\, bekämpfen!
DESCRIPTION:Workshop "Raus aus der Rassismus-Falle!"\n\nAnti-muslimischer R
 assismus ereignet sich täglich\, oft auch in unserer Nähe ohne dass wir 
 ihn überhaupt bemerken. Dadurch bleiben Opfer ohne die notwendige Unterst
 ützung. Das sollte nicht so sein: Wir wollen lernen\, Rassismus wahrzuneh
 men und sensibel mit ihm umzugehen.\nIclal Çelik leitet nicht nur den Wor
 kshop\, sondern gibt als Betroffene Einblicke in Rassismus-Erfahrungen\, d
 ie für Nicht-Betroffene völlig überraschend sind.\n\nReferentin: Iclal 
 Çelik\nEintritt frei\, Spenden willkommen.\nAchtung: Beschränkte Teilneh
 mendenzahl\nAnmeldungen bitte an Kathrin Neumann\nkathrinneumann@viertelpu
 nkt.org\, 089/53 71 02\n\nDie Veranstaltung ist eine Kooperation von Commi
 t e.V.\, Viertelpunkt und der DITIM-Moscheegemeinde.
ATTACH;FMTTYPE=image/jpeg:https://commitmuenchen.com/wp-content/uploads/20
 26/03/Flyer-Viertelpunkt-Workshop-Raus-aus-der-Rassismusfalle-19.04.2026.j
 pg
LOCATION:DITIM-Gemeinde\, Schanzenbachstraße 1\, München-Sendling\, 81371
 \, Deutschland
X-APPLE-STRUCTURED-LOCATION;VALUE=URI;X-ADDRESS=Schanzenbachstraße 1\, Mü
 nchen-Sendling\, 81371\, Deutschland;X-APPLE-RADIUS=100;X-TITLE=DITIM-Geme
 inde:geo:0,0
END:VEVENT
END:VCALENDAR