BEGIN:VCALENDAR
VERSION:2.0
PRODID:-//wp-events-plugin.com//6.6.1//EN
BEGIN:VEVENT
UID:53@commitmuenchen.com
DTSTART:20260503T140000Z
DTEND:20260503T183000Z
DTSTAMP:20260420T203706Z
URL:https://commitmuenchen.com/veranstaltungen/postkoloniale-spuren-im-rah
 men-des-janes-walk-festival/
SUMMARY:Postkoloniale Spuren im Rahmen des Jane's Walk Festival
DESCRIPTION:Viele unserer gegenwärtigen Vorstellungen\, unser Verhalten\, 
 aber auch unzählige Missstände sind direkt auf unsere koloniale Vergange
 nheit zurückzuführen. Wir beschäftigen uns heute mit historischen Hinte
 rgründen\, weltweiten Verflechtungen und lokalen Spuren der Kolonialzeit.
  Besonders in den Fokus nehmen möchten wir\, wie die (neo-)kolonialen Mac
 htstrukturen der Gegenwart die wirtschaftliche und soziale Ungleichheit de
 r modernen Welt aufrechterhalten. Wir möchten mit unserem Angebot Selbstr
 eflexion fördern\, um Solidarität und gesellschaftlichen Zusammenhalt zu
  fördern.\n\nEintritt frei\, Spenden willkommen.\n\nWorkshop und Rundgang
  werden im Rahmen des "Jane’s Walk Fußverkehrsfestival 2026“ angebote
 n. Beim Jane's Walk zelebrieren wir gemeinsam das Zufußgehen und machen d
 ie Beduetung und Vorteile des Fußverkehrs aufmerksam.\n\nDer Münchner Ja
 ne's Walk wird organisiert und durchgeführt von den Organisationen: \n\nF
 USS e.V. Ortsgruppe München\nBUND Naturschutz e.V. Kreisgruppe München\n
 Green City e.V. \nund VCD Kreisverband München e.V.\n
ATTACH;FMTTYPE=image/jpeg:https://commitmuenchen.com/wp-content/uploads/20
 24/09/postkoloniale-spuren.png
LOCATION:EineWeltHaus\, Schwanthalerstraße 80\, München\, 80336\, Deutsch
 land
X-APPLE-STRUCTURED-LOCATION;VALUE=URI;X-ADDRESS=Schwanthalerstraße 80\, M
 ünchen\, 80336\, Deutschland;X-APPLE-RADIUS=100;X-TITLE=EineWeltHaus:geo:
 0,0
END:VEVENT
END:VCALENDAR