BEGIN:VCALENDAR
VERSION:2.0
PRODID:-//wp-events-plugin.com//6.6.1//EN
BEGIN:VEVENT
UID:47@commitmuenchen.com
DTSTART:20260925T150000Z
DTEND:20260925T180000Z
DTSTAMP:20260306T121751Z
URL:https://commitmuenchen.com/veranstaltungen/orte-des-wandels-rundgang-d
 urch-giesing/
SUMMARY:Orte des Wandels Rundgang durch Giesing
DESCRIPTION:Giesing zeigt\, wie Wandel vor Ort gelingen kann: Beim gemeinsa
 men Rundgang entdecken Sie Projekte und Initiativen\, die nachhaltiges Leb
 en\, gemeinschaftliches Handeln und kreative Lösungen für die Zukunft f
 ördern. Lernen Sie Orte kennen\, an denen Kreislaufwirtschaft praktisch u
 mgesetzt wird\, wo Nachbarschaft lebendig gestaltet und kulturelle Teilhab
 e gestärkt wird. Begleiten Sie uns auf einen inspirierenden Spaziergang z
 u Menschen\, die zeigen\, wie aus Ideen konkrete Veränderungen entstehen.
 \n\nIn Kooperation mit MVHS. \nAnmeldung über: https://www.mvhs.de/kurse/
 460-C-W123778
ATTACH;FMTTYPE=image/jpeg:https://commitmuenchen.com/wp-content/uploads/20
 25/04/schuhe2.png
LOCATION:MVHS\, Severinstr. 4\, München\, Bayern\, Deutschland
X-APPLE-STRUCTURED-LOCATION;VALUE=URI;X-ADDRESS=Severinstr. 4\, München\, 
 Bayern\, Deutschland;X-APPLE-RADIUS=100;X-TITLE=MVHS:geo:0,0
END:VEVENT
END:VCALENDAR