BEGIN:VCALENDAR
VERSION:2.0
PRODID:-//wp-events-plugin.com//6.6.1//EN
BEGIN:VEVENT
UID:50@commitmuenchen.com
DTSTART;VALUE=DATE:20260701
DTEND;VALUE=DATE:20260703
DTSTAMP:20260324T135814Z
URL:https://commitmuenchen.com/veranstaltungen/monster-in-der-stadt-wo-lau
 ern-die-ausbeuterischen-lebens-und-produktionsweisen/
SUMMARY:Monster in der Stadt - Wo lauern die ausbeuterischen Lebens-und Pro
 duktionsweisen?
DESCRIPTION:Wir erkunden in unserem zweitägigen Praxis-Seminar gemeinsam m
 it euch neue Impulse für Bildung für nachhaltige Entwicklung im öffentl
 ichen Raum: Lernt die urbanen Monster kennen! \n\nDie Urbanen Monster eine
 r ausbeuterischen\, imperialen Lebensweise begegnen uns überall – sie k
 riechen aus der Jeans\, im Handyladen aus den seltenen Erden der neuesten 
 Smartphone-Modelle\, beim Einkaufen im Supermarkt rollen sie via Kassenlau
 fband in unseren Alltag. Diese Monster haben sich in alle Lebensbereiche w
 estlicher Gesellschaften eingenistet und hineingefressen. Wir können ihne
 n nicht entkommen\, selbst wenn wir es wollten. Und eigentlich haben wir u
 ns gut mit ihnen arrangiert und füttern sie reichlich: Auf Kosten anderer
 …\n\nDr. Oliver Emde\, der die Urbane-Monster-Didaktik ins Leben gerufen
  hat\, wird euch gemeinsam mit Nadine Kaufmann\, die erfahrungsorientierte
  Lernräume zu komplexen Fragen gestaltet\, in die Welt der Urbanen Monste
 r einführen. \n\nKosten: \n70 Euro inkl. Verpflegung\, Ermäßigung auf A
 nfrage \n\nKlicke hier\, um dich anzumelden :) https://civicrm.greencity.d
 e/civicrm/event/info?reset=1&id=105 \n\n\nDie Veranstaltung ist eine Koope
 ration im Rahmen der Akteursplattform BNE und wird im Verbund durchgeführ
 t von der Evangelischen Akademie Hofgeismar\, Ökoprojekt Mobilspiel e.V.\
 , Greencity e.V.\, Commit e.V. und dem Nord Süd Forum e.V.\n\nWir freuen 
 uns auf euch! \n
ATTACH;FMTTYPE=image/jpeg:https://commitmuenchen.com/wp-content/uploads/20
 26/03/ggf.-fuer-Sharepics.png
LOCATION:EineWeltHaus\, Schwanthalerstr. 80\, München \, Bayern\, Deutschl
 and
X-APPLE-STRUCTURED-LOCATION;VALUE=URI;X-ADDRESS=Schwanthalerstr. 80\, Münc
 hen \, Bayern\, Deutschland;X-APPLE-RADIUS=100;X-TITLE=EineWeltHaus:geo:0,
 0
END:VEVENT
END:VCALENDAR