BEGIN:VCALENDAR
VERSION:2.0
PRODID:-//wp-events-plugin.com//6.6.1//EN
BEGIN:VEVENT
UID:49@commitmuenchen.com
DTSTART:20260502T143000Z
DTEND:20260502T170000Z
DTSTAMP:20260330T121456Z
URL:https://commitmuenchen.com/veranstaltungen/alternativer-stadtrundgang-
 zu-den-orten-des-wandels-in-laim/
SUMMARY:Alternativer Stadtrundgang zu Orten des Wandels in Laim
DESCRIPTION:Wie sehen alternative Wirtschaftsideen aus\, die einer Welt mit
  begrenzten Ressourcen gerecht werden? Wie können wir gemeinsam und vor O
 rt zu mehr globaler Gerechtigkeit beitragen? Besuche bei diesem Rundgang g
 emeinsam mit uns mutige Projekte in Laim\, die eine Vorreiterrolle für ei
 ne nachhaltige Stadtgesellschaft einnehmen. Lerne zukunftsweisende Ideen\,
  Initiativen und deren Akteur*innen kennen.\nAußerdem: Du wirst Gelegenhe
 it haben\, um dich mit Gleichgesinnten auszutauschen\, Neues zu lernen und
  dabei Spaß haben. Du brauchst keine Vorkenntnisse. Schau einfach vorbei!
 \nIn Kooperation mit der Münchner Volkshochschule Stadtteil Laim.\n\nAnme
 ldung gerne über die VHS: https://www.mvhs.de/kurse/muenchen-unsere-stadt
 /muenchen-umgebung-entdecken/muenchen-heute-stadtviertel-entdecken/muenchn
 er-westen/alternativer-stadtrundgang-zu-den-orten-des-wandels-460-C-W12572
 9\n
ATTACH;FMTTYPE=image/jpeg:https://commitmuenchen.com/wp-content/uploads/20
 26/03/Sharepic_Rundgang_Laim_02.05.261.jpg
LOCATION:Willibaldplatz\, Willibaldplatz\, München\, 80687\, Bayern\, Deut
 schland
X-APPLE-STRUCTURED-LOCATION;VALUE=URI;X-ADDRESS=Willibaldplatz\, München\,
  80687\, Bayern\, Deutschland;X-APPLE-RADIUS=100;X-TITLE=Willibaldplatz:ge
 o:0,0
END:VEVENT
END:VCALENDAR